BEGIN:VCALENDAR
VERSION:2.0
PRODID:-//MAGIC - ECPv6.15.20//NONSGML v1.0//EN
CALSCALE:GREGORIAN
METHOD:PUBLISH
X-ORIGINAL-URL:https://magic.mdc.edu
X-WR-CALDESC:Events for MAGIC
REFRESH-INTERVAL;VALUE=DURATION:PT1H
X-Robots-Tag:noindex
X-PUBLISHED-TTL:PT1H
BEGIN:VTIMEZONE
TZID:America/New_York
BEGIN:DAYLIGHT
TZOFFSETFROM:-0500
TZOFFSETTO:-0400
TZNAME:EDT
DTSTART:20240310T070000
END:DAYLIGHT
BEGIN:STANDARD
TZOFFSETFROM:-0400
TZOFFSETTO:-0500
TZNAME:EST
DTSTART:20241103T060000
END:STANDARD
BEGIN:DAYLIGHT
TZOFFSETFROM:-0500
TZOFFSETTO:-0400
TZNAME:EDT
DTSTART:20250309T070000
END:DAYLIGHT
BEGIN:STANDARD
TZOFFSETFROM:-0400
TZOFFSETTO:-0500
TZNAME:EST
DTSTART:20251102T060000
END:STANDARD
BEGIN:DAYLIGHT
TZOFFSETFROM:-0500
TZOFFSETTO:-0400
TZNAME:EDT
DTSTART:20260308T070000
END:DAYLIGHT
BEGIN:STANDARD
TZOFFSETFROM:-0400
TZOFFSETTO:-0500
TZNAME:EST
DTSTART:20261101T060000
END:STANDARD
END:VTIMEZONE
BEGIN:VEVENT
DTSTART;TZID=America/New_York:20250926T120000
DTEND;TZID=America/New_York:20250926T160000
DTSTAMP:20260421T102624
CREATED:20250826T182344Z
LAST-MODIFIED:20250917T174520Z
UID:5785-1758888000-1758902400@magic.mdc.edu
SUMMARY:MAGIC Event - K-Pop Demon Hunters: Film Screening + Sing-Along Dance Party
DESCRIPTION:YOU ARE INVITED\nEnjoy the FULL MOVIE on the BIG SCREEN and SING-ALONG from 12:00–1:30 PM! \nSING KARAOKE\, SNAP PHOTOS\, and PLAY GAMES WITH US from 1:30–3:00 PM – You could win EXCLUSIVE K POP MERCH\nCan you handle the heat of the SPICY CHALLENGE  or find the prize in our ball pit? Search “IN THE BALLS!”\nAt 3 PM\, join us for the ultimate DANCE PARTY to the FULL SOUNDTRACK!\n\n\nDate: Friday\, 09/26/2025\nTime: 12 PM – 4 PM\nLocation:  Wolfson Campus\, Building 8 – Room 8106 \nRSVP\n\n\nA $5 donation serves as your TICKET to the party!\nAll proceeds benefit the MAGIC Student Scholarship Fund\n\n\nEVENT SCHEDULE\nMovie Screening\n 12:00 – 1:30 PM \nKaraoke\, Photo Ops\, & Games\n 1:30 – 3:00 PM \nDance Party\n 3:00 PM \n\nBRING CASH OR DONATE ONLINE\n\nTHEMATIC SNACKS\nFuel Your Fandom With: \n Huntrix Eye-Popping Popcorn \n Saja Boy Soda Pops \n Derpy & Sussie Cupcakes \n And More Thematic Treats! \n\nSODA POP SHOULDER SWAY CHALLENGE\n Record yourself swaying to the song “Soda Pop”\n Post on Instagram and tag @MAGIC_MDC\n Enter for a chance to win an exclusive K Pop Demon Hunters prize + be part of our fan compilation! \n\nPHOTO OPS\n Snap a pic at our photo ops with our life-size cutouts of Huntrix and the Saja Boys!\n Post on Instagram and tag @MAGIC_MDC\n Enter for a chance to win one of them! \n\nThe MAGIC Student Scholarship Fund – Celebrating 10 Years of MAGIC\nCreated in 2025 by students\, for students; this initiative celebrates the 10-year anniversary of MAGIC. Throughout the academic year\, a series of special events like this one\, will be hosted to honor this milestone and bring the MAGIC community together. Proceeds from these events will directly support a new Student Scholarship Fund\, designed to help future creators pursue their education in animation\, gaming\, and immersive technologies at the MAGIC program. By celebrating a decade of innovation\, storytelling\, and student success\, this effort ensures the next generation has the opportunity to continue building on the legacy of MAGIC.\n\nFor additional information\, please contact Ms. Brenna Verner at (305) 237-3560 or bverner@mdc.edu
URL:https://magic.mdc.edu/event/k-pop-demon-hunters-film-screening-sing-along-dance-party/
LOCATION:MAGIC Screening Room – Building 8\, Room 8106\, 315 NE 2nd Avenue\, Miami\, FL\, 33132\, United States
CATEGORIES:MAGIC Events
ORGANIZER;CN="MDC MAGIC":MAILTO:magic@mdc.edu
END:VEVENT
END:VCALENDAR