BEGIN:VCALENDAR
VERSION:2.0
PRODID:-//MAGIC - ECPv6.15.20//NONSGML v1.0//EN
CALSCALE:GREGORIAN
METHOD:PUBLISH
X-WR-CALNAME:MAGIC
X-ORIGINAL-URL:https://magic.mdc.edu
X-WR-CALDESC:Events for MAGIC
REFRESH-INTERVAL;VALUE=DURATION:PT1H
X-Robots-Tag:noindex
X-PUBLISHED-TTL:PT1H
BEGIN:VTIMEZONE
TZID:America/New_York
BEGIN:DAYLIGHT
TZOFFSETFROM:-0500
TZOFFSETTO:-0400
TZNAME:EDT
DTSTART:20240310T070000
END:DAYLIGHT
BEGIN:STANDARD
TZOFFSETFROM:-0400
TZOFFSETTO:-0500
TZNAME:EST
DTSTART:20241103T060000
END:STANDARD
BEGIN:DAYLIGHT
TZOFFSETFROM:-0500
TZOFFSETTO:-0400
TZNAME:EDT
DTSTART:20250309T070000
END:DAYLIGHT
BEGIN:STANDARD
TZOFFSETFROM:-0400
TZOFFSETTO:-0500
TZNAME:EST
DTSTART:20251102T060000
END:STANDARD
BEGIN:DAYLIGHT
TZOFFSETFROM:-0500
TZOFFSETTO:-0400
TZNAME:EDT
DTSTART:20260308T070000
END:DAYLIGHT
BEGIN:STANDARD
TZOFFSETFROM:-0400
TZOFFSETTO:-0500
TZNAME:EST
DTSTART:20261101T060000
END:STANDARD
END:VTIMEZONE
BEGIN:VEVENT
DTSTART;TZID=America/New_York:20250917T120000
DTEND;TZID=America/New_York:20250917T130000
DTSTAMP:20260421T084750
CREATED:20250411T073425Z
LAST-MODIFIED:20250825T150511Z
UID:5244-1758110400-1758114000@magic.mdc.edu
SUMMARY:Town Hall - September
DESCRIPTION:Students currently enrolled in the MAGIC program\, or a MAGIC faculty or staff member will have the chance to voice their opinions\, concerns\, or suggestions to improve our academic program. \nThis special session will be moderated by Ms. Ana Cruz and Ms. Brenna Verner in Room 8119 We hope to see you then.
URL:https://magic.mdc.edu/event/town-hall-september/
LOCATION:MAGIC Incubator – Building 8\, Room 8119\, 315 NE 2nd Avenue\, Miami\, FL\, 33132\, United States
CATEGORIES:MAGIC Events
ORGANIZER;CN="MDC MAGIC":MAILTO:magic@mdc.edu
END:VEVENT
END:VCALENDAR