BEGIN:VCALENDAR
VERSION:2.0
PRODID:-//MAGIC - ECPv6.15.20//NONSGML v1.0//EN
CALSCALE:GREGORIAN
METHOD:PUBLISH
X-ORIGINAL-URL:https://magic.mdc.edu
X-WR-CALDESC:Events for MAGIC
REFRESH-INTERVAL;VALUE=DURATION:PT1H
X-Robots-Tag:noindex
X-PUBLISHED-TTL:PT1H
BEGIN:VTIMEZONE
TZID:UTC
BEGIN:STANDARD
TZOFFSETFROM:+0000
TZOFFSETTO:+0000
TZNAME:UTC
DTSTART:20220101T000000
END:STANDARD
END:VTIMEZONE
BEGIN:VEVENT
DTSTART;TZID=UTC:20230612T080000
DTEND;TZID=UTC:20230616T170000
DTSTAMP:20260425T212821
CREATED:20230107T124848Z
LAST-MODIFIED:20230219T211035Z
UID:3755-1686556800-1686934800@magic.mdc.edu
SUMMARY:MAGIC Summer Camp - 3D Modeling with Maya
DESCRIPTION:Animation Camp\nStudents ages 14-19 will get an introduction to character design and animation using Autodesk® Maya®\, the application used by top video game development and film studios. Skills development will focus on the use of Autodesk ”Maya” and Adobe Photoshop. This class is project based; students will have the opportunity to complete a portfolio of their own animation. Pre-Requisite: Basic computer skills. Check in from 8:00 – 9:00 a.m. get acquainted with equipment\, meet and greet. From 4:00 – 5:00 p.m.– students can stay on premises and work on labs while waiting for pick-up. Drop-off and Pick-Up at Building 8\, first floor. Camp location: Wolfson Campus. \nWeek #1:      Class 6/12/23 – 6/16/23    MTuWThF 9:00 am—3:00 pm      $0 \n3D Modeling with Maya: You’ll learn valuable workflows that pros use and create and sculpt 3D models. We’ll teach you the fundamentals of character design and rigging before you create your own original 3D props\, set pieces\, and characters. You’ll learn valuable workflows that pros use and create and sculpt 3D models. We’ll teach you the fundamentals of character design and rigging before you create your own original 3D props\, set pieces\, and characters. Ref Number: 8270 \nRegistration will open March 15th\, 2023
URL:https://magic.mdc.edu/event/magic-summer-camp-animation/
LOCATION:Miami Animation & Gaming International Complex @ MDC\, 315 NE 2nd Ave - Building 8\, Miami\, FL\, 33132\, United States
CATEGORIES:Academics
ORGANIZER;CN="MDC MAGIC":MAILTO:magic@mdc.edu
END:VEVENT
BEGIN:VEVENT
DTSTART;TZID=UTC:20230612T080000
DTEND;TZID=UTC:20230616T170000
DTSTAMP:20260425T212821
CREATED:20230219T211850Z
LAST-MODIFIED:20230219T211850Z
UID:3826-1686556800-1686934800@magic.mdc.edu
SUMMARY:MAGIC Summer Camp - Esports 1
DESCRIPTION:Esports Camp\nStudents ages 14+ will immerse themselves in the world of competitive gaming at this exciting esports camp designed for all-skill level players. Make new friends\, have a blast and be a part of Miami Dade College Esports safe and supportive gaming community. Coaches will guide players through games\, drills\, and strategies in a fun and competitive environment. Players will walk away with several tactics and tools that they can utilize to improve their gaming skills while building important life skills that extend beyond the game. This camp is designed for all-skill level players looking to take their game to the next level. Pre-Requisite: Basic computer skills. Check in from 8:00 – 9:00 a.m. get acquainted with equipment\, meet\, and greet. From 3:00 – 5:00 p.m.– students can stay on premises and work on labs while waiting for pick-up. Drop-off and Pick-Up at Building 1\, first floor. Camp location: Wolfson Campus. \nWeek #1:      Class 6/12/23- 6/16/23    MTuWThF 9:00 am—3:00 pm      $0 \nEsports Week 1: Join us at MDC College for our first ever Esports Summer Camp. Week 1 will show you around the world of Esports while enjoying some time learning about Super Smash Brothers Ultimate. You will learn about “What is Esports”\, being healthy while playing\, how to play with people you know\, and people you don’t know. Broadcasting and game analysis\, as well as coaching other players and yourself to achieve your player goals. Building 1\, Room 1156-1. Course Hours: 25. Ref Number: 9373 \nRegistration will open March 15th\, 2023
URL:https://magic.mdc.edu/event/magic-summer-camp-esports-1/
LOCATION:Miami Animation & Gaming International Complex @ MDC\, 315 NE 2nd Ave - Building 8\, Miami\, FL\, 33132\, United States
CATEGORIES:Academics
ORGANIZER;CN="MDC MAGIC":MAILTO:magic@mdc.edu
END:VEVENT
END:VCALENDAR