BEGIN:VCALENDAR
VERSION:2.0
PRODID:-//MAGIC - ECPv6.15.20//NONSGML v1.0//EN
CALSCALE:GREGORIAN
METHOD:PUBLISH
X-ORIGINAL-URL:https://magic.mdc.edu
X-WR-CALDESC:Events for MAGIC
REFRESH-INTERVAL;VALUE=DURATION:PT1H
X-Robots-Tag:noindex
X-PUBLISHED-TTL:PT1H
BEGIN:VTIMEZONE
TZID:UTC
BEGIN:STANDARD
TZOFFSETFROM:+0000
TZOFFSETTO:+0000
TZNAME:UTC
DTSTART:20220101T000000
END:STANDARD
END:VTIMEZONE
BEGIN:VEVENT
DTSTART;TZID=UTC:20230104T080000
DTEND;TZID=UTC:20230104T170000
DTSTAMP:20260424T223957
CREATED:20220909T200235Z
LAST-MODIFIED:20220909T200235Z
UID:3611-1672819200-1672851600@magic.mdc.edu
SUMMARY:Spring Term Begins.
DESCRIPTION:
URL:https://magic.mdc.edu/event/spring-term-begins/
LOCATION:Miami Animation & Gaming International Complex @ MDC\, 315 NE 2nd Ave - Building 8\, Miami\, FL\, 33132\, United States
CATEGORIES:Academics
END:VEVENT
END:VCALENDAR