BEGIN:VCALENDAR
VERSION:2.0
PRODID:-//MAGIC - ECPv6.15.20//NONSGML v1.0//EN
CALSCALE:GREGORIAN
METHOD:PUBLISH
X-WR-CALNAME:MAGIC
X-ORIGINAL-URL:https://magic.mdc.edu
X-WR-CALDESC:Events for MAGIC
REFRESH-INTERVAL;VALUE=DURATION:PT1H
X-Robots-Tag:noindex
X-PUBLISHED-TTL:PT1H
BEGIN:VTIMEZONE
TZID:UTC
BEGIN:STANDARD
TZOFFSETFROM:+0000
TZOFFSETTO:+0000
TZNAME:UTC
DTSTART:20210101T000000
END:STANDARD
END:VTIMEZONE
BEGIN:VEVENT
DTSTART;TZID=UTC:20221017T100000
DTEND;TZID=UTC:20221017T110000
DTSTAMP:20260424T064934
CREATED:20221007T165709Z
LAST-MODIFIED:20221007T165709Z
UID:3674-1666000800-1666004400@magic.mdc.edu
SUMMARY:Mixed Reality Toolkit 3 (MRTK3) Workshop by Microsoft
DESCRIPTION:Denise Mendez from Microsoft will be visiting MAGIC on Monday\, October 17th at 10:00 am to conduct a workshop on how to use the Mixed Reality Toolkit 3 (MRTK3) on the HoloLens 2.  It’s a Microsoft-driven open-source project to accelerate cross-platform mixed reality development in Unity. This new version is built on top of Unity’s XR Management system and XR Interaction Toolkit. MRTK3 runs on OpenXR\, meaning that the toolkit supports a range of extended reality (XR) devices.
URL:https://magic.mdc.edu/event/mixed-reality-toolkit-3-mrtk3-workshop-by-microsoft/
LOCATION:MAGIC Screening Room – Building 8\, Room 8106\, 315 NE 2nd Avenue\, Miami\, FL\, 33132\, United States
CATEGORIES:Academics,MAGIC Events
ORGANIZER;CN="MDC MAGIC":MAILTO:magic@mdc.edu
END:VEVENT
END:VCALENDAR