BEGIN:VCALENDAR
VERSION:2.0
PRODID:-//MAGIC - ECPv6.15.20//NONSGML v1.0//EN
CALSCALE:GREGORIAN
METHOD:PUBLISH
X-WR-CALNAME:MAGIC
X-ORIGINAL-URL:https://magic.mdc.edu
X-WR-CALDESC:Events for MAGIC
REFRESH-INTERVAL;VALUE=DURATION:PT1H
X-Robots-Tag:noindex
X-PUBLISHED-TTL:PT1H
BEGIN:VTIMEZONE
TZID:UTC
BEGIN:STANDARD
TZOFFSETFROM:+0000
TZOFFSETTO:+0000
TZNAME:UTC
DTSTART:20210101T000000
END:STANDARD
END:VTIMEZONE
BEGIN:VEVENT
DTSTART;TZID=UTC:20220711T080000
DTEND;TZID=UTC:20220715T170000
DTSTAMP:20260423T145524
CREATED:20220409T034021Z
LAST-MODIFIED:20220409T034428Z
UID:3342-1657526400-1657904400@magic.mdc.edu
SUMMARY:3D Game Design Summer Camp
DESCRIPTION:Students ages 14-19 will learn the premier 3D modeling\, animation\, effects\, and rendering software packages on the market. Using the industry-standard\, intuitive toolset featured in Autodesk® Maya® realistic 3D models will be created and prepare them for game play in a gaming engine. Skills development will focus on the use of Autodesk ”Maya” and Adobe Photoshop. Pre-Requisite: Basic computer skills. Check in from 8:00 – 9:00 a.m. get acquainted with equipment\, meet and greet. From 4:00 – 5:00 p.m.– students can stay on premises and work on labs while waiting for pick-up. Drop-off and Pick-Up at Building 8\, first floor. Camp location: Wolfson Campus. \n\nWeek #2:      Class  7/11/22 – 7/15/22   MTuWThF 9:00 am—3:00 pm      $395 \nGame Programming: Gain deeper knowledge of scripting\, learning basic programming techniques and editing tools. You will focus on developing for virtual reality and its unique design challenges. We’ll teach you the basics of coding in Unity using the C# programming language. Gain deeper knowledge of scripting\, learning basic programming techniques and editing tools. You will focus on developing for virtual reality and its unique design challenges. Ref Number: 8273 \n \n\nFor more information about our summer camps and to enroll please contact Lillybeth Guilfucci: 305-237-3598 / lguilfuc@mdc.edu | Oscar Pedroso: 305-237-3031 / opedroso@mdc.edu
URL:https://magic.mdc.edu/event/3d-game-design-summer-camp/
LOCATION:Miami Animation & Gaming International Complex @ MDC\, 315 NE 2nd Ave - Building 8\, Miami\, FL\, 33132\, United States
CATEGORIES:Academics
END:VEVENT
END:VCALENDAR