BEGIN:VCALENDAR
VERSION:2.0
PRODID:-//MAGIC - ECPv6.15.20//NONSGML v1.0//EN
CALSCALE:GREGORIAN
METHOD:PUBLISH
X-WR-CALNAME:MAGIC
X-ORIGINAL-URL:https://magic.mdc.edu
X-WR-CALDESC:Events for MAGIC
REFRESH-INTERVAL;VALUE=DURATION:PT1H
X-Robots-Tag:noindex
X-PUBLISHED-TTL:PT1H
BEGIN:VTIMEZONE
TZID:UTC
BEGIN:STANDARD
TZOFFSETFROM:+0000
TZOFFSETTO:+0000
TZNAME:UTC
DTSTART:20210101T000000
END:STANDARD
END:VTIMEZONE
BEGIN:VEVENT
DTSTART;TZID=UTC:20220423T133000
DTEND;TZID=UTC:20220423T170000
DTSTAMP:20260423T082726
CREATED:20211217T202059Z
LAST-MODIFIED:20220409T073817Z
UID:3124-1650720600-1650733200@magic.mdc.edu
SUMMARY:Commencement Ceremony
DESCRIPTION:All Ceremonies Will Take Place on Saturday\, April 23\, 2022\nBelow is the schedule of ceremonies at LoanDepot Park located at 501 Marlins Way\, Miami\, Florida 33125: \n\n8:30 a.m. North\, Padron and West Campuses\n1:30 p.m. Wolfson\, Homestead and Medical Campuses\n6:30 p.m. Kendall and Hialeah Campuses\n\nIf you’re attending in person\, please note:\n \nAll persons entering LoanDepot Park are subject to a security screening with a metal detector wand and/or inspection of belongings.  Failure to consent to screening and inspection will result in a denial of entry to LoanDepot Park. MDC encourages wearing a tightly fitted mask while indoors. \nGuest Tickets\nGuest tickets will not be required for entrance to commencement.  However\, please note that up to 6 guests will be allowed per graduate. \nFriends and Family Can Watch Online\nFriends and families of graduates who are not able to attend in person can watch the ceremonies live online on the day of the event. A recording of the ceremonies will also be available after the live event is over at: www.mdc.edu/livestream.
URL:https://magic.mdc.edu/event/commencement-ceremony-3/
LOCATION:Marlins Park Stadium\, 501 Marlins Way\, Miami\, 33125
CATEGORIES:Academics,MDC Events
END:VEVENT
END:VCALENDAR