BEGIN:VCALENDAR
VERSION:2.0
PRODID:-//MAGIC - ECPv6.15.20//NONSGML v1.0//EN
CALSCALE:GREGORIAN
METHOD:PUBLISH
X-ORIGINAL-URL:https://magic.mdc.edu
X-WR-CALDESC:Events for MAGIC
REFRESH-INTERVAL;VALUE=DURATION:PT1H
X-Robots-Tag:noindex
X-PUBLISHED-TTL:PT1H
BEGIN:VTIMEZONE
TZID:UTC
BEGIN:STANDARD
TZOFFSETFROM:+0000
TZOFFSETTO:+0000
TZNAME:UTC
DTSTART:20210101T000000
END:STANDARD
END:VTIMEZONE
BEGIN:VEVENT
DTSTART;TZID=UTC:20220415T080000
DTEND;TZID=UTC:20220415T170000
DTSTAMP:20260423T015026
CREATED:20211217T201811Z
LAST-MODIFIED:20211217T201811Z
UID:3118-1650009600-1650042000@magic.mdc.edu
SUMMARY:Spring Recess
DESCRIPTION:
URL:https://magic.mdc.edu/event/spring-recess-2/
LOCATION:Miami Animation & Gaming International Complex @ MDC\, 315 NE 2nd Ave - Building 8\, Miami\, FL\, 33132\, United States
CATEGORIES:Academics
END:VEVENT
END:VCALENDAR