BEGIN:VCALENDAR
VERSION:2.0
PRODID:-//MAGIC - ECPv6.15.20//NONSGML v1.0//EN
CALSCALE:GREGORIAN
METHOD:PUBLISH
X-WR-CALNAME:MAGIC
X-ORIGINAL-URL:https://magic.mdc.edu
X-WR-CALDESC:Events for MAGIC
REFRESH-INTERVAL;VALUE=DURATION:PT1H
X-Robots-Tag:noindex
X-PUBLISHED-TTL:PT1H
BEGIN:VTIMEZONE
TZID:UTC
BEGIN:STANDARD
TZOFFSETFROM:+0000
TZOFFSETTO:+0000
TZNAME:UTC
DTSTART:20230101T000000
END:STANDARD
END:VTIMEZONE
BEGIN:VEVENT
DTSTART;TZID=UTC:20240402T100000
DTEND;TZID=UTC:20240402T140000
DTSTAMP:20260425T130708
CREATED:20231120T012521Z
LAST-MODIFIED:20231120T012521Z
UID:4269-1712052000-1712066400@magic.mdc.edu
SUMMARY:The Pitch Event
DESCRIPTION:What’s your idea?\nShort-films\, video games or immersive simulations are produced at MAGIC as a capstone project during the second academic year. All students are granted  the opportunity to pitch an idea for a project. Selection is based on having an original idea\, strong and defined characters\, production feasibility and the potential to elevate MDC MAGIC and our community through its message. \nSelected projects are then paired with executives and professionals from animation studios currently partnering with MAGIC as part of our mentorship program. Visit MAGIC’s YouTube Page to watch all students’ projects created and produced at the Miami Animation & Gaming International Complex.
URL:https://magic.mdc.edu/event/the-pitch-event-4/
LOCATION:MAGIC Incubator – Building 8\, Room 8119\, 315 NE 2nd Avenue\, Miami\, FL\, 33132\, United States
CATEGORIES:Academics,MAGIC Events
ORGANIZER;CN="MDC MAGIC":MAILTO:magic@mdc.edu
END:VEVENT
BEGIN:VEVENT
DTSTART;TZID=UTC:20240404T100000
DTEND;TZID=UTC:20240404T130000
DTSTAMP:20260425T130708
CREATED:20231120T012619Z
LAST-MODIFIED:20231120T012619Z
UID:4271-1712224800-1712235600@magic.mdc.edu
SUMMARY:The Pitch Event – Industry @ MAGIC
DESCRIPTION:
URL:https://magic.mdc.edu/event/the-pitch-event-industry-magic-5/
LOCATION:MAGIC Incubator – Building 8\, Room 8119\, 315 NE 2nd Avenue\, Miami\, FL\, 33132\, United States
CATEGORIES:Academics,MAGIC Events
ORGANIZER;CN="MDC MAGIC":MAILTO:magic@mdc.edu
END:VEVENT
BEGIN:VEVENT
DTSTART;TZID=UTC:20240410T080000
DTEND;TZID=UTC:20240410T170000
DTSTAMP:20260425T130708
CREATED:20231120T011954Z
LAST-MODIFIED:20231120T011954Z
UID:4263-1712736000-1712768400@magic.mdc.edu
SUMMARY:Open registration for Fall 2024 begins.
DESCRIPTION:
URL:https://magic.mdc.edu/event/open-registration-for-fall-2024-begins/
LOCATION:Miami Animation & Gaming International Complex @ MDC\, 315 NE 2nd Ave - Building 8\, Miami\, FL\, 33132\, United States
CATEGORIES:Academics
END:VEVENT
BEGIN:VEVENT
DTSTART;TZID=UTC:20240420T080000
DTEND;TZID=UTC:20240420T170000
DTSTAMP:20260425T130708
CREATED:20240110T011157Z
LAST-MODIFIED:20240110T011157Z
UID:4314-1713600000-1713632400@magic.mdc.edu
SUMMARY:Commencement Ceremony
DESCRIPTION:See You at the Ceremonies in 2024!\nRemember to apply for graduation at your campus Advisement Office. For more information\, please contact your advisor. \nHave You Met the Civic Literacy Graduation Requirement?\nAll MDC degree seeking students must take an approved civic literacy course and pass an exam in order to graduate. For more information\, please contact your advisor.
URL:https://magic.mdc.edu/event/commencement-ceremony-5/
LOCATION:Marlins Park Stadium\, 501 Marlins Way\, Miami\, 33125
CATEGORIES:Academics,MDC Events
END:VEVENT
BEGIN:VEVENT
DTSTART;TZID=UTC:20240424T180000
DTEND;TZID=UTC:20240424T210000
DTSTAMP:20260425T130708
CREATED:20231120T012855Z
LAST-MODIFIED:20240420T182403Z
UID:4275-1713981600-1713992400@magic.mdc.edu
SUMMARY:2024 MAGIC Premiere Night
DESCRIPTION:MAGIC Students’ Imaginative Capstone Projects Come To Life\n\n\n\n\n\nRain boots adorned with frog eyes are reason for bullying in “When Rain Falls\,” short animated movie created by Maggie Bacallao. \n\nFrog rain boots\, fast dining and a budding romance between ants. What do these topics have in common? They’re all themes in three exciting student projects under development at Miami Dade College’s Miami Animation and Gaming International Complex (MAGIC). \nMAGIC students produce animated short films and video games as capstones during their second academic year under the mentorship of industry partners. This year\, three students are leading projects ranging from a virtual reality (VR) video game simulating a ventanita restaurant\, to a 3D-animated short film about a hungry lizard posing a threat to two unsuspecting ants. \nIn Lewis Tamayo’s Ventanita\, players are immersed in a culinary world familiar to Hispanics in Miami\, where you’ll find piping-hot cortaditos being served through a window at restaurants like Versailles. Tasked with making enough money to bring abuelo to the U.S.\, players fulfill daily orders of dishes like tostones. \n“I wanted to simulate to the player that feeling of being put in a situation where you don’t have your family and you’re trying to fix that\,” said Tamayo\, who is working with mentor animation expert Will Buckley. \nIn Maggie Bacallao’s 2D-animated short film When Rain Falls\, a young girl finds herself bullied for wearing rain boots featuring frog eyes on the front. The story\, produced under the guidance of TelevisaUnivision\, emphasizes acts of kindness after a bully has a change of heart and apologizes. \n“This experience gave me a chance to not only challenge myself as a leader\, but also show support and kindness to my team\,” she said. \nIf you’re two ants falling in love while on a picnic\, the last thing you want is a hungry lizard looming over you. That’s the premise of Juliana Betances-Rendon’s 3D-animated short film romANTics. Betances-Rendon’s team is being mentored by Disney Jr.’s Drew Tolman. \n“I’m grateful to be able to talk to someone who has experience in the industry\,” she said. \nArticle published at the MDC College Forum. \nThe capstone projects will screen at MAGIC’s Premiere Night on April 24th at 6 PM at the Miami Animation & Gaming International Complex for guests only. General audience will be able to watch the premiere at the same day and time streaming on YouTube (link to the YouTube screening will be available on Monday\, April 22 2024). \n\nFor more information about the MAGIC program at Miami Dade College\, please contact us at (305) 237-3560 or magic@mdc.edu
URL:https://magic.mdc.edu/event/2023-magic-premiere-night-2/
LOCATION:MAGIC Screening Room – Building 8\, Room 8106\, 315 NE 2nd Avenue\, Miami\, FL\, 33132\, United States
CATEGORIES:Academics,MAGIC Events
ORGANIZER;CN="MDC MAGIC":MAILTO:magic@mdc.edu
END:VEVENT
BEGIN:VEVENT
DTSTART;TZID=UTC:20240426T080000
DTEND;TZID=UTC:20240426T170000
DTSTAMP:20260425T130708
CREATED:20231120T012038Z
LAST-MODIFIED:20231120T012038Z
UID:4265-1714118400-1714150800@magic.mdc.edu
SUMMARY:Spring Term. Last day of classes and final exams.
DESCRIPTION:
URL:https://magic.mdc.edu/event/spring-term-last-day-of-classes-and-final-exams/
LOCATION:Miami Animation & Gaming International Complex @ MDC\, 315 NE 2nd Ave - Building 8\, Miami\, FL\, 33132\, United States
CATEGORIES:Academics
END:VEVENT
END:VCALENDAR