BEGIN:VCALENDAR
VERSION:2.0
PRODID:-//MAGIC - ECPv6.15.20//NONSGML v1.0//EN
CALSCALE:GREGORIAN
METHOD:PUBLISH
X-WR-CALNAME:MAGIC
X-ORIGINAL-URL:https://magic.mdc.edu
X-WR-CALDESC:Events for MAGIC
REFRESH-INTERVAL;VALUE=DURATION:PT1H
X-Robots-Tag:noindex
X-PUBLISHED-TTL:PT1H
BEGIN:VTIMEZONE
TZID:UTC
BEGIN:STANDARD
TZOFFSETFROM:+0000
TZOFFSETTO:+0000
TZNAME:UTC
DTSTART:20230101T000000
END:STANDARD
END:VTIMEZONE
BEGIN:VEVENT
DTSTART;TZID=UTC:20240207T120000
DTEND;TZID=UTC:20240207T140000
DTSTAMP:20260425T154750
CREATED:20231120T013056Z
LAST-MODIFIED:20240205T220723Z
UID:4277-1707307200-1707314400@magic.mdc.edu
SUMMARY:Town Hall – February
DESCRIPTION:Students currently enrolled in the MAGIC program\, or a MAGIC faculty or staff member will have the chance to voice their opinions\, concerns\, or suggestions to improve our academic program. \nThis special session will be moderated by Ms. Soraya Rojas and Ms. Nicole Garay in Room 8106. We hope to see you then.
URL:https://magic.mdc.edu/event/town-hall-february-4/
LOCATION:MAGIC Screening Room – Building 8\, Room 8106\, 315 NE 2nd Avenue\, Miami\, FL\, 33132\, United States
CATEGORIES:Academics,MAGIC Events
ORGANIZER;CN="MDC MAGIC":MAILTO:magic@mdc.edu
END:VEVENT
BEGIN:VEVENT
DTSTART;TZID=UTC:20240219T080000
DTEND;TZID=UTC:20240219T170000
DTSTAMP:20260425T154750
CREATED:20231120T011645Z
LAST-MODIFIED:20231120T011645Z
UID:4255-1708329600-1708362000@magic.mdc.edu
SUMMARY:Holiday – President's Day
DESCRIPTION:
URL:https://magic.mdc.edu/event/holiday-presidents-day-7/
LOCATION:Miami Animation & Gaming International Complex @ MDC\, 315 NE 2nd Ave - Building 8\, Miami\, FL\, 33132\, United States
CATEGORIES:Academics
END:VEVENT
END:VCALENDAR