BEGIN:VCALENDAR
VERSION:2.0
PRODID:-//MAGIC - ECPv6.15.20//NONSGML v1.0//EN
CALSCALE:GREGORIAN
METHOD:PUBLISH
X-WR-CALNAME:MAGIC
X-ORIGINAL-URL:https://magic.mdc.edu
X-WR-CALDESC:Events for MAGIC
REFRESH-INTERVAL;VALUE=DURATION:PT1H
X-Robots-Tag:noindex
X-PUBLISHED-TTL:PT1H
BEGIN:VTIMEZONE
TZID:UTC
BEGIN:STANDARD
TZOFFSETFROM:+0000
TZOFFSETTO:+0000
TZNAME:UTC
DTSTART:20220101T000000
END:STANDARD
END:VTIMEZONE
BEGIN:VEVENT
DTSTART;TZID=UTC:20230403T100000
DTEND;TZID=UTC:20230403T140000
DTSTAMP:20260425T115130
CREATED:20220909T202101Z
LAST-MODIFIED:20220909T203919Z
UID:3633-1680516000-1680530400@magic.mdc.edu
SUMMARY:The Pitch Event
DESCRIPTION:What’s your idea?\nShort-films\, video games or immersive simulations are produced at MAGIC as a capstone project during the second academic year. All students are granted  the opportunity to pitch an idea for a project. Selection is based on having an original idea\, strong and defined characters\, production feasibility and the potential to elevate MDC MAGIC and our community through its message. \nSelected projects are then paired with executives and professionals from animation studios currently partnering with MAGIC as part of our mentorship program. Visit MAGIC’s YouTube Page to watch all students’ projects created and produced at the Miami Animation & Gaming International Complex.
URL:https://magic.mdc.edu/event/the-pitch-event-3/
LOCATION:MAGIC Incubator – Building 8\, Room 8119\, 315 NE 2nd Avenue\, Miami\, FL\, 33132\, United States
CATEGORIES:Academics,MAGIC Events
END:VEVENT
BEGIN:VEVENT
DTSTART;TZID=UTC:20230405T100000
DTEND;TZID=UTC:20230405T140000
DTSTAMP:20260425T115130
CREATED:20220909T201923Z
LAST-MODIFIED:20220909T201923Z
UID:3629-1680688800-1680703200@magic.mdc.edu
SUMMARY:The Pitch Event – Industry @ MAGIC
DESCRIPTION:
URL:https://magic.mdc.edu/event/the-pitch-event-industry-magic-4/
LOCATION:MAGIC Incubator – Building 8\, Room 8119\, 315 NE 2nd Avenue\, Miami\, FL\, 33132\, United States
CATEGORIES:Academics,MAGIC Events
END:VEVENT
BEGIN:VEVENT
DTSTART;TZID=UTC:20230407T080000
DTEND;TZID=UTC:20230407T170000
DTSTAMP:20260425T115130
CREATED:20220909T201257Z
LAST-MODIFIED:20220909T201257Z
UID:3619-1680854400-1680886800@magic.mdc.edu
SUMMARY:Spring Recess
DESCRIPTION:
URL:https://magic.mdc.edu/event/spring-recess-3/
LOCATION:Miami Animation & Gaming International Complex @ MDC\, 315 NE 2nd Ave - Building 8\, Miami\, FL\, 33132\, United States
CATEGORIES:Academics
END:VEVENT
BEGIN:VEVENT
DTSTART;TZID=UTC:20230414T100000
DTEND;TZID=UTC:20230414T150000
DTSTAMP:20260425T115130
CREATED:20220909T202012Z
LAST-MODIFIED:20230216T003509Z
UID:3631-1681466400-1681484400@magic.mdc.edu
SUMMARY:Career & Internship Day @ MAGIC
DESCRIPTION:The MAGIC Career & Internship Day will takes place on April 7th\, 2023.  Employers interview students for job and internship opportunities in-person. Get your portfolio ready! For more information please contact Nicole Garay at (305) 237-3560.
URL:https://magic.mdc.edu/event/career-internship-day-magic-2/
LOCATION:MAGIC Open Lab – Building 8\, Room 8108\, 315 NE 2nd Avenue\, Miami\, FL\, 33132\, United States
CATEGORIES:Academics,MAGIC Events
END:VEVENT
BEGIN:VEVENT
DTSTART;TZID=UTC:20230418T113000
DTEND;TZID=UTC:20230418T163000
DTSTAMP:20260425T115130
CREATED:20230214T223247Z
LAST-MODIFIED:20230311T071001Z
UID:3805-1681817400-1681835400@magic.mdc.edu
SUMMARY:2023 Wolfson Campus Learning Day
DESCRIPTION:Wolfson Campus Learning Day\nApril 18th\, 2023 – 11:30AM – 4:30PM \nVR/AR Expo: 11:30AM to 12:45PM\nThis event is for all MDC faculty and Wolfson staff \nStation 01 – Humanities (MAGIC)\n\nArt Appreciation: Gravity Sketch\nPhilosophy: Trolley Problem\nLiterature: Anne Frank\nTheater Appreciation: Sweet Sorrow\nSpeech: Speech Trainer\nMusic: Ragtime\n\nStation 02 – Sciences & Math (MAGIC)\n\nMath: Sums\nPhysics: PHIN\nAstronomy: Mission ISS\nEnvironmental Science: Sea Level\nBiology: The Cell\nChemstry: Palladius\nChemistry: Hybridization Theory Practice\n\nStation 03 – English & History (MAGIC)\n\nHistory: Anne Frank\nAmerican Government: The People’s House\n\nStation 04 – Student Simulations (MAGIC)\n\nVR Math Simulations\, being developed with the Math Department\nAmazonia VR – developed at MAGIC for the Museum of Tomorrow in Brazil\nEverglades\n\nStation 05 – Xennial Digital (vendor)\n\nWe work with forward-thinking organizations to help them build and implement scalable\, secure and analytics-driven XR enterprise solutions and platforms.\nVideo: Xennial Digital Anesthesia Depth SIM Lab\nVideo: Xennial Digital VR Aviation Pre Built Features\nWebsite: Xennial Digital\n\nStation 06 – Case Western Reserve University – HoloAnatomy (vendor)\n\nAnatomy Simulation – HoloAnatomy® Software Suite* was developed in collaboration with experienced anatomy faculty\, our software gives students 3D perspectives of every part of the body – offering views impossible through any other means.\nVideo: YouTube\nWebsite: HoloAnatomy Software Suite\n\nKeynote Session: 1PM to 1:45PM  1\nPanel: The State of XR Education in South Florida \n50% of first year’s STEM students will fail or drop out of their intended track.  According to research one of the competencies needed for success in STEM classes is spatial reasoning\, and this competency can be taught and XR is a perfect vehicle. What is AR\, how is it being used today in our community\, and why should you care? Join us for this panel of leaders from South Florida public schools and colleges and universities to learn why and how they are using XR as a teaching tool in their classrooms. \nModerator: Denise Mendez (Microsoft) \nPanelists: UM\, Broward Public Schools\, Case Western Reserve University\, FIU\, and MDC (Mauricio Ferrazza). Dr. Lupe Diaz was invited to represent MDCPS. \nBreakout Session 01: 2PM to 2:45PM\nPanel: Making a VR/AR App for Your Classroom \nFrom the MAGIC Halloween Hackathon to Developing a VR Math VR application\, MAGIC students with the guidance of Math professor Manini are developing this simulation to be tested during the Math Summer Academy and brought into the classroom in the Fall term. All funded by the Legacy STEM Grant\, who’s providing students with a stipend and faculty with task points to develop high impact practices for the classroom. MAGIC students and professor Manini will provide an overview of this journey and lessons learned. \nModerator: Mauricio Ferrazza (MAGIC) \nPanelists: MAGIC students Diego Castillo\, Pedro Terra\, Dacia Steiner with the Legacy STEM Grant\, Professor Manini with the Math Department and Professor Mel Tomeo with the MAGIC department. \n  \n  \n  \n  \n  \n  \n 
URL:https://magic.mdc.edu/event/wolfson-campus-conference-day/
LOCATION:Miami Dade College – Chapman Center\, Building 3\, 300 NE 2nd Avenue\, MIAMI\, FL\, 33132\, United States
CATEGORIES:Academics,MDC Events
END:VEVENT
BEGIN:VEVENT
DTSTART;TZID=UTC:20230422T130000
DTEND;TZID=UTC:20230422T150000
DTSTAMP:20260425T115130
CREATED:20220909T201428Z
LAST-MODIFIED:20230314T141634Z
UID:3623-1682168400-1682175600@magic.mdc.edu
SUMMARY:Commencement Ceremony
DESCRIPTION:See you in 2023!\nThe Class of 2022 is on its way to a brighter future. Class of 2023\, you’ve got some pretty big shoes to fill. You’ve got tests to ace\, presentations to make\, competitions to win\, awards to earn\, and a Commencement of your own to celebrate. That’s a pretty busy schedule. But we know you’re ready for it. We know you’re hungry to hit the books and kick down the doors to opportunity. We know you’ve signed up for your classes… You have signed up for your classes\, haven’t you? No? What are you waiting for Class of 2023? \nGraduation Transfer Prep\nApplying for Graduation\nWe strongly recommend that you schedule your graduation review meeting the semester before you anticipate the completion of your program to ensure you are on track to complete all of the graduation requirements for your pathway. Visit Advisement & Career Services at your respective campus to meet with an Academic & Career Advisor to ensure that you have met all necessary requirements to be eligible for graduation. \nAcademic Requirements Report\nAn Academic Requirement Report is the official record keeper of graduation requirements. This is different than an Academic MAP which is intended to help you organize in which order you should schedule your pathway/program requirements. An advisor will help you understand your academic requirements and ensure your academic MAP incorporates all graduation requirements. Reviewing these documents at least once per semester will ensure that making progress towards your requirements for graduation. Contact an advisor whenever you have concerns or questions about your requirements to make sure you stay on track! \nTransfer Planning\nMDC have several resources are designed to assist students\, advisors\, faculty\, mentors\, department chairs\, staff with transfer planning.  MDC has several articulation agreements with a variety of institutions to facilitate a smooth transfer experience. Review our Transfer Agreement website and discuss with your advisor how to incorporate transfer requirements into your MAP. \n\nMDC MAGIC + FIU Articulation Agreement\nMDC MAGIC  + FAU Articulation Agreement\n\nFCLE – Federal Civic Literacy Exam\n\nFDLC Requirements\n\nEntering the Workforce / Workplace\nReady to become part of the workforce? Here are some helpful resources to help guide you: \n\nJobs and Internships\nCareer Exploration\nGraduation Form\nGraduation FAQ\n\n\n 
URL:https://magic.mdc.edu/event/commencement-ceremony-4/
LOCATION:Marlins Park Stadium\, 501 Marlins Way\, Miami\, 33125
CATEGORIES:Academics
END:VEVENT
BEGIN:VEVENT
DTSTART;TZID=UTC:20230426T180000
DTEND;TZID=UTC:20230426T210000
DTSTAMP:20260425T115130
CREATED:20220909T201659Z
LAST-MODIFIED:20230423T105148Z
UID:3627-1682532000-1682542800@magic.mdc.edu
SUMMARY:2023 MAGIC Premiere Night
DESCRIPTION:Class of 2023 Animated Short-Films and Video Games. This event is by invitation only.
URL:https://magic.mdc.edu/event/2023-magic-premiere-night/
LOCATION:MAGIC Screening Room – Building 8\, Room 8106\, 315 NE 2nd Avenue\, Miami\, FL\, 33132\, United States
CATEGORIES:Academics,MAGIC Events
END:VEVENT
BEGIN:VEVENT
DTSTART;TZID=UTC:20230428T080000
DTEND;TZID=UTC:20230428T170000
DTSTAMP:20260425T115130
CREATED:20220909T201332Z
LAST-MODIFIED:20230107T125156Z
UID:3621-1682668800-1682701200@magic.mdc.edu
SUMMARY:Spring Term - Last day of classes
DESCRIPTION:
URL:https://magic.mdc.edu/event/last-day-of-classes-and-final-exams/
LOCATION:Miami Animation & Gaming International Complex @ MDC\, 315 NE 2nd Ave - Building 8\, Miami\, FL\, 33132\, United States
CATEGORIES:Academics
END:VEVENT
END:VCALENDAR