BEGIN:VCALENDAR
VERSION:2.0
PRODID:-//MAGIC - ECPv6.15.20//NONSGML v1.0//EN
CALSCALE:GREGORIAN
METHOD:PUBLISH
X-ORIGINAL-URL:https://magic.mdc.edu
X-WR-CALDESC:Events for MAGIC
REFRESH-INTERVAL;VALUE=DURATION:PT1H
X-Robots-Tag:noindex
X-PUBLISHED-TTL:PT1H
BEGIN:VTIMEZONE
TZID:UTC
BEGIN:STANDARD
TZOFFSETFROM:+0000
TZOFFSETTO:+0000
TZNAME:UTC
DTSTART:20210101T000000
END:STANDARD
END:VTIMEZONE
BEGIN:VEVENT
DTSTART;TZID=UTC:20221201T120000
DTEND;TZID=UTC:20221201T140000
DTSTAMP:20260424T050534
CREATED:20220409T041028Z
LAST-MODIFIED:20220409T041028Z
UID:3364-1669896000-1669903200@magic.mdc.edu
SUMMARY:Town Hall - December
DESCRIPTION:Students currently enrolled in the MAGIC program\, or a MAGIC faculty or staff member will have the chance to voice their opinions\, concerns or suggestions with the goal of improving our academic program. \nThis special session will be moderated by Mauricio Ferrazza\, Chairperson at MAGIC. We hope to see you then. \n\nFor more information please contact Nicole Garay at (305) 237-3560
URL:https://magic.mdc.edu/event/town-hall-december-2/
LOCATION:MAGIC Screening Room – Building 8\, Room 8106\, 315 NE 2nd Avenue\, Miami\, FL\, 33132\, United States
CATEGORIES:Academics
ORGANIZER;CN="MDC MAGIC":MAILTO:magic@mdc.edu
END:VEVENT
BEGIN:VEVENT
DTSTART;TZID=UTC:20221216T080000
DTEND;TZID=UTC:20221216T170000
DTSTAMP:20260424T050534
CREATED:20220409T033217Z
LAST-MODIFIED:20220409T033217Z
UID:3329-1671177600-1671210000@magic.mdc.edu
SUMMARY:Fall Term - Last day of classes and final exams
DESCRIPTION:
URL:https://magic.mdc.edu/event/fall-term-last-day-of-classes-and-final-exams-2/
LOCATION:Miami Animation & Gaming International Complex @ MDC\, 315 NE 2nd Ave - Building 8\, Miami\, FL\, 33132\, United States
CATEGORIES:Academics
END:VEVENT
BEGIN:VEVENT
DTSTART;TZID=UTC:20221219T080000
DTEND;TZID=UTC:20221219T170000
DTSTAMP:20260424T050534
CREATED:20220409T033306Z
LAST-MODIFIED:20220409T033306Z
UID:3331-1671436800-1671469200@magic.mdc.edu
SUMMARY:Fall Term - Final course grades available
DESCRIPTION:
URL:https://magic.mdc.edu/event/fall-term-final-course-grades-available-3/
LOCATION:Miami Animation & Gaming International Complex @ MDC\, 315 NE 2nd Ave - Building 8\, Miami\, FL\, 33132\, United States
CATEGORIES:Academics
END:VEVENT
BEGIN:VEVENT
DTSTART;TZID=UTC:20221219T080000
DTEND;TZID=UTC:20221230T170000
DTSTAMP:20260424T050534
CREATED:20220409T033409Z
LAST-MODIFIED:20220409T033409Z
UID:3333-1671436800-1672419600@magic.mdc.edu
SUMMARY:Winter Recess. The College will be closed for winter recess.
DESCRIPTION:
URL:https://magic.mdc.edu/event/winter-recess-the-college-will-be-closed-for-winter-recess-2/
LOCATION:Miami Animation & Gaming International Complex @ MDC\, 315 NE 2nd Ave - Building 8\, Miami\, FL\, 33132\, United States
CATEGORIES:Academics
END:VEVENT
END:VCALENDAR