BEGIN:VCALENDAR
VERSION:2.0
PRODID:-//MAGIC - ECPv6.15.20//NONSGML v1.0//EN
CALSCALE:GREGORIAN
METHOD:PUBLISH
X-ORIGINAL-URL:https://magic.mdc.edu
X-WR-CALDESC:Events for MAGIC
REFRESH-INTERVAL;VALUE=DURATION:PT1H
X-Robots-Tag:noindex
X-PUBLISHED-TTL:PT1H
BEGIN:VTIMEZONE
TZID:UTC
BEGIN:STANDARD
TZOFFSETFROM:+0000
TZOFFSETTO:+0000
TZNAME:UTC
DTSTART:20210101T000000
END:STANDARD
END:VTIMEZONE
BEGIN:VEVENT
DTSTART;TZID=UTC:20220613T080000
DTEND;TZID=UTC:20220617T170000
DTSTAMP:20260423T104504
CREATED:20220409T033722Z
LAST-MODIFIED:20220409T035446Z
UID:3335-1655107200-1655485200@magic.mdc.edu
SUMMARY:Animation & Esports Summer Camp
DESCRIPTION:Esports Camp\nStudents ages 14+ will immerse themselves in the world of competitive gaming at this exciting esports camp designed for all-skill level players. Make new friends\, have a blast and be a part of Miami Dade College Esports safe and supportive gaming community. Coaches will guide players through games\, drills\, and strategies in a fun and competitive environment. Players will walk away with several tactics and tools that they can utilize to improve their gaming skills while building important life skills that extend beyond the game. This camp is designed for all-skill level players looking to take their game to the next level. Pre-Requisite: Basic computer skills. Check in from 8:00 – 9:00 a.m. get acquainted with equipment\, meet\, and greet. From 3:00 – 5:00 p.m.– students can stay on premises and work on labs while waiting for pick-up. Drop-off and Pick-Up at Building 1\, first floor. Camp location: Wolfson Campus. \nWeek #1:      Class 6/13/22 – 6/17/22    MTuWThF 9:00 am—3:00 pm      $395 \nSmash Brothers: Join us at MDC College for our first ever Esports Summer Camp. Week 1 will show you around the world of Esports while enjoying some time learning about Super Smash Brothers Ultimate. You will learn about “What is Esports”\, being healthy while playing\, how to play with people you know\, and people you don’t know. Broadcasting and game analysis\, as well as coaching other players and yourself to achieve your player goals. Building 1\, Room 1156-1. Course Hours: 25. Ref Number: 9373 \n \n\nAnimation Camp\nStudents ages 14-19 will get an introduction to character design and animation using Autodesk® Maya®\, the application used by top video game development and film studios. Skills development will focus on the use of Autodesk ”Maya” and Adobe Photoshop. This class is project based; students will have the opportunity to complete a portfolio of their own animation. Pre-Requisite: Basic computer skills. Check in from 8:00 – 9:00 a.m. get acquainted with equipment\, meet and greet. From 4:00 – 5:00 p.m.– students can stay on premises and work on labs while waiting for pick-up. Drop-off and Pick-Up at Building 8\, first floor. Camp location: Wolfson Campus. \nWeek #1:      Class 6/13/22 – 6/17/22    MTuWThF 9:00 am—3:00 pm      $395 \n3D Modeling with Maya: You’ll learn valuable workflows that pros use and create and sculpt 3D models. We’ll teach you the fundamentals of character design and rigging before you create your own original 3D props\, set pieces\, and characters. You’ll learn valuable workflows that pros use and create and sculpt 3D models. We’ll teach you the fundamentals of character design and rigging before you create your own original 3D props\, set pieces\, and characters. Ref Number: 8270 \n \n\nFor more information about our summer camps and to enroll please contact Lillybeth Guilfucci: 305-237-3598 / lguilfuc@mdc.edu | Oscar Pedroso: 305-237-3031 / opedroso@mdc.edu
URL:https://magic.mdc.edu/event/animation-esports-summer-camp/
LOCATION:Miami Animation & Gaming International Complex @ MDC\, 315 NE 2nd Ave - Building 8\, Miami\, FL\, 33132\, United States
CATEGORIES:Academics
END:VEVENT
BEGIN:VEVENT
DTSTART;TZID=UTC:20220617T080000
DTEND;TZID=UTC:20220617T170000
DTSTAMP:20260423T104504
CREATED:20220409T032721Z
LAST-MODIFIED:20220409T032721Z
UID:3315-1655452800-1655485200@magic.mdc.edu
SUMMARY:Summer Term - Last day of classes first 6-week mini-term
DESCRIPTION:
URL:https://magic.mdc.edu/event/summer-term-last-day-of-classes-first-6-week-mini-term-2/
LOCATION:Miami Animation & Gaming International Complex @ MDC\, 315 NE 2nd Ave - Building 8\, Miami\, FL\, 33132\, United States
CATEGORIES:Academics
END:VEVENT
BEGIN:VEVENT
DTSTART;TZID=UTC:20220620T080000
DTEND;TZID=UTC:20220624T170000
DTSTAMP:20260423T104504
CREATED:20220409T033829Z
LAST-MODIFIED:20220409T035422Z
UID:3337-1655712000-1656090000@magic.mdc.edu
SUMMARY:3D Game Design & Esports Summer Camp
DESCRIPTION:Esports Camp\nStudents ages 14+ will immerse themselves in the world of competitive gaming at this exciting esports camp designed for all-skill level players. Make new friends\, have a blast and be a part of Miami Dade College Esports safe and supportive gaming community. Coaches will guide players through games\, drills\, and strategies in a fun and competitive environment. Players will walk away with several tactics and tools that they can utilize to improve their gaming skills while building important life skills that extend beyond the game. This camp is designed for all-skill level players looking to take their game to the next level. Pre-Requisite: Basic computer skills. Check in from 8:00 – 9:00 a.m. get acquainted with equipment\, meet\, and greet. From 3:00 – 5:00 p.m.– students can stay on premises and work on labs while waiting for pick-up. Drop-off and Pick-Up at Building 1\, first floor. Camp location: Wolfson Campus. \nWeek #2:      Class 6/20/22 – 6/24/22   MTuWThF 9:00 am—3:00 pm      $395 \nOverwatch: This is our second camp of the summer\, and we are looking to expand on last week’s camp. We will dive further into communication\, and discuss toxicity\, reinforcement\, go further into health and fitness\, and explore the introductory phases of journalism\, marketing and some problems they face in the industry today. All the while the players enjoy learning about the game of Overwatch and to assess games that require the ability to aim and think fast on your feet. Building 1\, Room 1156-1. Course Hours: 25. Ref Number: 9375 \n \n\n3D Game Design Camp\nStudents ages 14-19 will learn the premier 3D modeling\, animation\, effects\, and rendering software packages on the market. Using the industry-standard\, intuitive toolset featured in Autodesk® Maya® realistic 3D models will be created and prepare them for game play in a gaming engine. Skills development will focus on the use of Autodesk ”Maya” and Adobe Photoshop. Pre-Requisite: Basic computer skills. Check in from 8:00 – 9:00 a.m. get acquainted with equipment\, meet and greet. From 4:00 – 5:00 p.m.– students can stay on premises and work on labs while waiting for pick-up. Drop-off and Pick-Up at Building 8\, first floor. Camp location: Wolfson Campus. \nWeek #1:      Class  6/20/22 – 6/24/212  MTuWThF 9:00 am—3:00 pm      $395 \nGame Design with Unity: Create your own video games that can be explored on a PC. You’ll learn the proper workflow to create custom environments\, objects and player challenges using Unity. We’ll teach you the basics of coding in Unity using the C# programming language. Create your own video games that can be explored on a PC. You’ll learn the proper workflow to create custom environments\, objects and player challenges using Unity. Ref Number: 8272 \n \n\nFor more information about our summer camps and to enroll please contact Lillybeth Guilfucci: 305-237-3598 / lguilfuc@mdc.edu | Oscar Pedroso: 305-237-3031 / opedroso@mdc.edu
URL:https://magic.mdc.edu/event/3d-game-design-esports-summer-camp/
LOCATION:Miami Animation & Gaming International Complex @ MDC\, 315 NE 2nd Ave - Building 8\, Miami\, FL\, 33132\, United States
CATEGORIES:Academics
END:VEVENT
BEGIN:VEVENT
DTSTART;TZID=UTC:20220627T080000
DTEND;TZID=UTC:20220701T170000
DTSTAMP:20260423T104504
CREATED:20220409T033931Z
LAST-MODIFIED:20220409T035606Z
UID:3339-1656316800-1656694800@magic.mdc.edu
SUMMARY:Animation Summer Camp
DESCRIPTION:Animation Camp\nStudents ages 14-19 will get an introduction to character design and animation using Autodesk® Maya®\, the application used by top video game development and film studios. Skills development will focus on the use of Autodesk ”Maya” and Adobe Photoshop. This class is project based; students will have the opportunity to complete a portfolio of their own animation. Pre-Requisite: Basic computer skills. Check in from 8:00 – 9:00 a.m. get acquainted with equipment\, meet and greet. From 4:00 – 5:00 p.m.– students can stay on premises and work on labs while waiting for pick-up. Drop-off and Pick-Up at Building 8\, first floor. Camp location: Wolfson Campus. \nWeek #2:      Class 6/27/22 – 7/01/22   MTuWThF 9:00 am—3:00 pm      $395 \nCharacter Animation with Maya: Using Autodesk Maya\, you’ll learn how to bring characters to life\, using lighting\, settings\, and camera angles. We’ll teach you a workflow that will take pre-rigged models and animate them in a short sequence that tells a story. Using Autodesk Maya\, you’ll learn how to bring characters to life\, using lighting\, settings\, and camera angles. We’ll teach you a workflow that will take pre-rigged models and animate them in a short sequence that tells a story. Ref Number: 8271 \n \n\nFor more information about our summer camps and to enroll please contact Lillybeth Guilfucci: 305-237-3598 / lguilfuc@mdc.edu | Oscar Pedroso: 305-237-3031 / opedroso@mdc.edu
URL:https://magic.mdc.edu/event/animation-summer-camp/
LOCATION:Miami Animation & Gaming International Complex @ MDC\, 315 NE 2nd Ave - Building 8\, Miami\, FL\, 33132\, United States
CATEGORIES:Academics
END:VEVENT
END:VCALENDAR